BEGIN:VCALENDAR
METHOD:PUBLISH
PRODID:Data::ICal 0.13
VERSION:2.0
BEGIN:VEVENT
DESCRIPTION:Taco &amp; Beer Fest\nSaturday, March 2nd\nIndiana Discount Mall\n(3585 Commercial Dr. Indianapolis, IN. 46222) \n\n2pm-9pm\n[caption id=&quot;attachment_2428114&quot; align=&quot;alignnone&quot; width=&quot;3600&quot;] Source: Station Provided / Radio One Indy[/caption]
DTSTAMP:20260425T122137Z
DTSTART;TZID=America/Indiana/Indianapolis:20190302T140000
DTEND;TZID=America/Indiana/Indianapolis:20190302T210000
LOCATION:3585 Commercial Dr.\, Indianapolis\, IN\, 46222
SUMMARY:Taco &amp; Beer Fest
UID:20693-1551535200-1551560400
END:VEVENT
END:VCALENDAR
